Package: flowCut Version: 1.16.0 Command: /Library/Frameworks/R.framework/Resources/bin/R CMD INSTALL flowCut StartedAt: 2025-02-03 17:18:07 -0500 (Mon, 03 Feb 2025) EndedAt: 2025-02-03 17:18:17 -0500 (Mon, 03 Feb 2025) EllapsedTime: 10.4 seconds RetCode: 0 Status: OK