Package: flowCut Version: 1.16.0 Command: rm -rf flowCut.buildbin-libdir && mkdir flowCut.buildbin-libdir && /Users/biocbuild/BBS/utils/build-universal.sh flowCut_1.16.0.tar.gz /Library/Frameworks/R.framework/Resources/bin/R flowCut.buildbin-libdir StartedAt: 2025-01-31 12:48:49 -0500 (Fri, 31 Jan 2025) EndedAt: 2025-01-31 12:49:11 -0500 (Fri, 31 Jan 2025) EllapsedTime: 22.1 seconds RetCode: 0 Status: OK PackageFile: flowCut_1.16.0.tgz PackageFileSize: 8.062 MiB