Package: flowCut Version: 1.16.0 Command: /Library/Frameworks/R.framework/Resources/bin/R CMD build --keep-empty-dirs --no-resave-data flowCut StartedAt: 2025-02-03 18:58:51 -0500 (Mon, 03 Feb 2025) EndedAt: 2025-02-03 19:00:04 -0500 (Mon, 03 Feb 2025) EllapsedTime: 72.8 seconds RetCode: 0 Status: OK PackageFile: flowCut_1.16.0.tar.gz PackageFileSize: 8.383 MiB