Package: flowCut Version: 1.16.0 Command: F:\biocbuild\bbs-3.20-bioc\R\bin\R.exe CMD INSTALL flowCut StartedAt: 2025-02-03 16:11:28 -0500 (Mon, 03 Feb 2025) EndedAt: 2025-02-03 16:11:40 -0500 (Mon, 03 Feb 2025) EllapsedTime: 11.5 seconds RetCode: 0 Status: OK