Package: flowCyBar Version: 1.42.0 Command: /Library/Frameworks/R.framework/Resources/bin/R CMD build --keep-empty-dirs --no-resave-data flowCyBar StartedAt: 2025-02-03 23:43:10 -0500 (Mon, 03 Feb 2025) EndedAt: 2025-02-03 23:43:33 -0500 (Mon, 03 Feb 2025) EllapsedTime: 23.6 seconds RetCode: 0 Status: OK PackageFile: flowCyBar_1.42.0.tar.gz PackageFileSize: 508 KiB