Package: flowCyBar Version: 1.42.0 Command: /Library/Frameworks/R.framework/Resources/bin/R CMD check --install=check:flowCyBar.install-out.txt --library=/Library/Frameworks/R.framework/Resources/library --no-vignettes --timings flowCyBar_1.42.0.tar.gz StartedAt: 2025-02-11 03:33:49 -0500 (Tue, 11 Feb 2025) EndedAt: 2025-02-11 03:35:24 -0500 (Tue, 11 Feb 2025) EllapsedTime: 95.0 seconds RetCode: 0 Status: OK CheckDir: flowCyBar.Rcheck Warnings: 0