Package: flowCyBar Version: 1.42.0 Command: /Library/Frameworks/R.framework/Resources/bin/R CMD INSTALL flowCyBar StartedAt: 2025-02-10 15:09:52 -0500 (Mon, 10 Feb 2025) EndedAt: 2025-02-10 15:10:18 -0500 (Mon, 10 Feb 2025) EllapsedTime: 26.1 seconds RetCode: 0 Status: OK