Package: flowCyBar Version: 1.42.0 Command: rm -rf flowCyBar.buildbin-libdir && mkdir flowCyBar.buildbin-libdir && F:\biocbuild\bbs-3.20-bioc\R\bin\R.exe CMD INSTALL --build --library=flowCyBar.buildbin-libdir flowCyBar_1.42.0.tar.gz StartedAt: 2025-02-04 08:30:19 -0500 (Tue, 04 Feb 2025) EndedAt: 2025-02-04 08:30:35 -0500 (Tue, 04 Feb 2025) EllapsedTime: 15.5 seconds RetCode: 0 Status: OK PackageFile: flowCyBar_1.42.0.zip PackageFileSize: 347.3 KiB