Package: flowCyBar Version: 1.42.0 Command: /home/biocbuild/R/R/bin/R CMD INSTALL flowCyBar StartedAt: 2025-02-10 20:14:51 -0000 (Mon, 10 Feb 2025) EndedAt: 2025-02-10 20:15:19 -0000 (Mon, 10 Feb 2025) EllapsedTime: 28.2 seconds RetCode: 0 Status: OK