Package: flowDensity Version: 1.40.0 Command: /Library/Frameworks/R.framework/Resources/bin/R CMD check --install=check:flowDensity.install-out.txt --library=/Library/Frameworks/R.framework/Resources/library --no-vignettes --timings flowDensity_1.40.0.tar.gz StartedAt: 2025-02-04 20:00:25 -0500 (Tue, 04 Feb 2025) EndedAt: 2025-02-04 20:01:34 -0500 (Tue, 04 Feb 2025) EllapsedTime: 68.7 seconds RetCode: 0 Status: WARNINGS CheckDir: flowDensity.Rcheck Warnings: 3