Package: flowDensity Version: 1.40.0 Command: /Library/Frameworks/R.framework/Resources/bin/R CMD INSTALL flowDensity StartedAt: 2025-01-30 17:23:27 -0500 (Thu, 30 Jan 2025) EndedAt: 2025-01-30 17:23:38 -0500 (Thu, 30 Jan 2025) EllapsedTime: 11.8 seconds RetCode: 0 Status: OK