Package: flowDensity Version: 1.40.0 Command: /Library/Frameworks/R.framework/Resources/bin/R CMD INSTALL flowDensity StartedAt: 2025-02-03 16:22:18 -0500 (Mon, 03 Feb 2025) EndedAt: 2025-02-03 16:22:42 -0500 (Mon, 03 Feb 2025) EllapsedTime: 23.7 seconds RetCode: 0 Status: OK