Package: flowDensity Version: 1.40.0 Command: /home/biocbuild/bbs-3.20-bioc/R/bin/R CMD check --install=check:flowDensity.install-out.txt --library=/home/biocbuild/bbs-3.20-bioc/R/site-library --timings flowDensity_1.40.0.tar.gz StartedAt: 2025-02-03 22:26:05 -0500 (Mon, 03 Feb 2025) EndedAt: 2025-02-03 22:26:57 -0500 (Mon, 03 Feb 2025) EllapsedTime: 52.1 seconds RetCode: 0 Status: WARNINGS CheckDir: flowDensity.Rcheck Warnings: 3