Package: flowDensity Version: 1.40.0 Command: /home/biocbuild/bbs-3.20-bioc/R/bin/R CMD INSTALL flowDensity StartedAt: 2025-02-10 15:49:18 -0500 (Mon, 10 Feb 2025) EndedAt: 2025-02-10 15:49:27 -0500 (Mon, 10 Feb 2025) EllapsedTime: 9.4 seconds RetCode: 0 Status: OK