Package: flowDensity Version: 1.40.0 Command: F:\biocbuild\bbs-3.20-bioc\R\bin\R.exe CMD check --no-multiarch --install=check:flowDensity.install-out.txt --library=F:\biocbuild\bbs-3.20-bioc\R\library --no-vignettes --timings flowDensity_1.40.0.tar.gz StartedAt: 2025-02-11 01:47:50 -0500 (Tue, 11 Feb 2025) EndedAt: 2025-02-11 01:49:01 -0500 (Tue, 11 Feb 2025) EllapsedTime: 71.4 seconds RetCode: 0 Status: WARNINGS CheckDir: flowDensity.Rcheck Warnings: 3