Package: flowDensity Version: 1.40.0 Command: /home/biocbuild/R/R/bin/R CMD build --keep-empty-dirs --no-resave-data flowDensity StartedAt: 2025-02-03 23:39:06 -0000 (Mon, 03 Feb 2025) EndedAt: 2025-02-03 23:39:08 -0000 (Mon, 03 Feb 2025) EllapsedTime: 2.0 seconds RetCode: 0 Status: OK PackageFile: flowDensity_1.40.0.tar.gz PackageFileSize: 4.295 MiB