Package: flowDensity Version: 1.40.0 Command: /home/biocbuild/R/R/bin/R CMD check --install=check:flowDensity.install-out.txt --library=/home/biocbuild/R/R/site-library --no-vignettes --timings flowDensity_1.40.0.tar.gz StartedAt: 2025-02-04 07:04:05 -0000 (Tue, 04 Feb 2025) EndedAt: 2025-02-04 07:05:09 -0000 (Tue, 04 Feb 2025) EllapsedTime: 64.1 seconds RetCode: 0 Status: WARNINGS CheckDir: flowDensity.Rcheck Warnings: 3