Package: flowFP Version: 1.64.0 Command: rm -rf flowFP.buildbin-libdir && mkdir flowFP.buildbin-libdir && /Users/biocbuild/BBS/utils/build-universal.sh flowFP_1.64.0.tar.gz /Library/Frameworks/R.framework/Resources/bin/R flowFP.buildbin-libdir StartedAt: 2025-01-31 12:48:54 -0500 (Fri, 31 Jan 2025) EndedAt: 2025-01-31 12:49:33 -0500 (Fri, 31 Jan 2025) EllapsedTime: 38.8 seconds RetCode: 0 Status: OK PackageFile: flowFP_1.64.0.tgz PackageFileSize: 5.528 MiB