Package: flowFP Version: 1.64.0 Command: /Library/Frameworks/R.framework/Resources/bin/R CMD build --keep-empty-dirs --no-resave-data flowFP StartedAt: 2025-01-30 19:10:22 -0500 (Thu, 30 Jan 2025) EndedAt: 2025-01-30 19:11:36 -0500 (Thu, 30 Jan 2025) EllapsedTime: 74.4 seconds RetCode: 0 Status: OK PackageFile: flowFP_1.64.0.tar.gz PackageFileSize: 5.13 MiB