Package: flowFP Version: 1.64.0 Command: /home/biocbuild/R/R/bin/R CMD check --install=check:flowFP.install-out.txt --library=/home/biocbuild/R/R/site-library --no-vignettes --timings flowFP_1.64.0.tar.gz StartedAt: 2025-01-31 06:19:41 -0000 (Fri, 31 Jan 2025) EndedAt: 2025-01-31 06:21:17 -0000 (Fri, 31 Jan 2025) EllapsedTime: 96.1 seconds RetCode: 0 Status: OK CheckDir: flowFP.Rcheck Warnings: 0