Package: flowFP Version: 1.64.0 Command: /home/biocbuild/R/R/bin/R CMD INSTALL flowFP StartedAt: 2025-01-30 20:18:31 -0000 (Thu, 30 Jan 2025) EndedAt: 2025-01-30 20:18:48 -0000 (Thu, 30 Jan 2025) EllapsedTime: 16.8 seconds RetCode: 0 Status: OK