Package: flowGate Version: 1.6.0 Maintainer: Andrew Wight MaintainerEmail: andrew.wight10 at gmail.com git_url: https://git.bioconductor.org/packages/flowGate git_branch: RELEASE_3_20 git_last_commit: 439865b git_last_commit_date: 2024-10-29 11:18:46 -0500 (Tue, 29 Oct 2024)