Package: flowGate Version: 1.6.0 Command: /Library/Frameworks/R.framework/Resources/bin/R CMD check --install=check:flowGate.install-out.txt --library=/Library/Frameworks/R.framework/Resources/library --no-vignettes --timings flowGate_1.6.0.tar.gz StartedAt: 2025-02-04 20:01:34 -0500 (Tue, 04 Feb 2025) EndedAt: 2025-02-04 20:03:15 -0500 (Tue, 04 Feb 2025) EllapsedTime: 101.7 seconds RetCode: 0 Status: OK CheckDir: flowGate.Rcheck Warnings: 0