Package: flowGate Version: 1.6.0 Command: rm -rf flowGate.buildbin-libdir && mkdir flowGate.buildbin-libdir && /Users/biocbuild/BBS/utils/build-universal.sh flowGate_1.6.0.tar.gz /Library/Frameworks/R.framework/Resources/bin/R flowGate.buildbin-libdir StartedAt: 2025-02-04 12:57:32 -0500 (Tue, 04 Feb 2025) EndedAt: 2025-02-04 12:58:05 -0500 (Tue, 04 Feb 2025) EllapsedTime: 32.5 seconds RetCode: 0 Status: OK PackageFile: flowGate_1.6.0.tgz PackageFileSize: 1.662 MiB