Package: flowGate Version: 1.6.0 Command: /Library/Frameworks/R.framework/Resources/bin/R CMD build --keep-empty-dirs --no-resave-data flowGate StartedAt: 2025-02-03 18:59:24 -0500 (Mon, 03 Feb 2025) EndedAt: 2025-02-03 19:00:25 -0500 (Mon, 03 Feb 2025) EllapsedTime: 61.3 seconds RetCode: 0 Status: OK PackageFile: flowGate_1.6.0.tar.gz PackageFileSize: 2.403 MiB