Package: flowGate Version: 1.6.0 Command: /Library/Frameworks/R.framework/Resources/bin/R CMD INSTALL flowGate StartedAt: 2025-02-03 16:01:20 -0500 (Mon, 03 Feb 2025) EndedAt: 2025-02-03 16:01:49 -0500 (Mon, 03 Feb 2025) EllapsedTime: 28.9 seconds RetCode: 0 Status: OK