Package: flowGate Version: 1.6.0 Command: /home/biocbuild/bbs-3.20-bioc/R/bin/R CMD check --install=check:flowGate.install-out.txt --library=/home/biocbuild/bbs-3.20-bioc/R/site-library --timings flowGate_1.6.0.tar.gz StartedAt: 2025-02-03 22:26:12 -0500 (Mon, 03 Feb 2025) EndedAt: 2025-02-03 22:27:44 -0500 (Mon, 03 Feb 2025) EllapsedTime: 92.1 seconds RetCode: 0 Status: OK CheckDir: flowGate.Rcheck Warnings: 0