Package: flowGate Version: 1.6.0 Command: /home/biocbuild/bbs-3.20-bioc/R/bin/R CMD INSTALL flowGate StartedAt: 2025-02-03 15:40:09 -0500 (Mon, 03 Feb 2025) EndedAt: 2025-02-03 15:40:21 -0500 (Mon, 03 Feb 2025) EllapsedTime: 11.8 seconds RetCode: 0 Status: OK