Package: flowGate Version: 1.6.0 Command: rm -rf flowGate.buildbin-libdir && mkdir flowGate.buildbin-libdir && F:\biocbuild\bbs-3.20-bioc\R\bin\R.exe CMD INSTALL --build --library=flowGate.buildbin-libdir flowGate_1.6.0.tar.gz StartedAt: 2025-02-04 08:30:30 -0500 (Tue, 04 Feb 2025) EndedAt: 2025-02-04 08:31:11 -0500 (Tue, 04 Feb 2025) EllapsedTime: 40.3 seconds RetCode: 0 Status: OK PackageFile: flowGate_1.6.0.zip PackageFileSize: 1.175 MiB