Package: flowGate Version: 1.6.0 Command: /home/biocbuild/R/R/bin/R CMD INSTALL flowGate StartedAt: 2025-02-03 20:54:18 -0000 (Mon, 03 Feb 2025) EndedAt: 2025-02-03 20:54:33 -0000 (Mon, 03 Feb 2025) EllapsedTime: 14.8 seconds RetCode: 0 Status: OK