Package: flowMatch Version: 1.42.0 Command: /Library/Frameworks/R.framework/Resources/bin/R CMD build --keep-empty-dirs --no-resave-data flowMatch StartedAt: 2025-02-03 23:44:10 -0500 (Mon, 03 Feb 2025) EndedAt: 2025-02-03 23:45:07 -0500 (Mon, 03 Feb 2025) EllapsedTime: 56.3 seconds RetCode: 0 Status: OK PackageFile: flowMatch_1.42.0.tar.gz PackageFileSize: 3.675 MiB