Package: flowMatch Version: 1.42.0 Command: /Library/Frameworks/R.framework/Resources/bin/R CMD INSTALL flowMatch StartedAt: 2025-02-03 15:18:17 -0500 (Mon, 03 Feb 2025) EndedAt: 2025-02-03 15:18:43 -0500 (Mon, 03 Feb 2025) EllapsedTime: 26.6 seconds RetCode: 0 Status: OK