Package: flowMatch Version: 1.42.0 Command: chmod a+r flowMatch -R && F:\biocbuild\bbs-3.20-bioc\R\bin\R.exe CMD build --keep-empty-dirs --no-resave-data flowMatch StartedAt: 2025-02-03 19:13:52 -0500 (Mon, 03 Feb 2025) EndedAt: 2025-02-03 19:14:42 -0500 (Mon, 03 Feb 2025) EllapsedTime: 50.0 seconds RetCode: 0 Status: OK PackageFile: flowMatch_1.42.0.tar.gz PackageFileSize: 3.559 MiB