Package: flowMatch Version: 1.42.0 Command: /home/biocbuild/R/R/bin/R CMD check --install=check:flowMatch.install-out.txt --library=/home/biocbuild/R/R/site-library --no-vignettes --timings flowMatch_1.42.0.tar.gz StartedAt: 2025-02-04 07:04:25 -0000 (Tue, 04 Feb 2025) EndedAt: 2025-02-04 07:06:33 -0000 (Tue, 04 Feb 2025) EllapsedTime: 128.1 seconds RetCode: 0 Status: OK CheckDir: flowMatch.Rcheck Warnings: 0