Package: flowMeans Version: 1.66.0 Command: /Library/Frameworks/R.framework/Resources/bin/R CMD build --keep-empty-dirs --no-resave-data flowMeans StartedAt: 2025-02-03 18:59:42 -0500 (Mon, 03 Feb 2025) EndedAt: 2025-02-03 19:00:49 -0500 (Mon, 03 Feb 2025) EllapsedTime: 67.2 seconds RetCode: 0 Status: OK PackageFile: flowMeans_1.66.0.tar.gz PackageFileSize: 3.284 MiB