Package: flowMeans Version: 1.66.0 Command: /Library/Frameworks/R.framework/Resources/bin/R CMD check --install=check:flowMeans.install-out.txt --library=/Library/Frameworks/R.framework/Resources/library --no-vignettes --timings flowMeans_1.66.0.tar.gz StartedAt: 2025-02-04 03:49:27 -0500 (Tue, 04 Feb 2025) EndedAt: 2025-02-04 03:53:44 -0500 (Tue, 04 Feb 2025) EllapsedTime: 256.3 seconds RetCode: 0 Status: OK CheckDir: flowMeans.Rcheck Warnings: 0