Package: flowMeans Version: 1.66.0 Command: /Library/Frameworks/R.framework/Resources/bin/R CMD INSTALL flowMeans StartedAt: 2025-02-03 15:28:26 -0500 (Mon, 03 Feb 2025) EndedAt: 2025-02-03 15:29:06 -0500 (Mon, 03 Feb 2025) EllapsedTime: 39.5 seconds RetCode: 0 Status: OK