Package: flowMeans Version: 1.66.0 Command: rm -rf flowMeans.buildbin-libdir && mkdir flowMeans.buildbin-libdir && F:\biocbuild\bbs-3.20-bioc\R\bin\R.exe CMD INSTALL --build --library=flowMeans.buildbin-libdir flowMeans_1.66.0.tar.gz StartedAt: 2025-02-04 08:30:37 -0500 (Tue, 04 Feb 2025) EndedAt: 2025-02-04 08:31:14 -0500 (Tue, 04 Feb 2025) EllapsedTime: 37.2 seconds RetCode: 0 Status: OK PackageFile: flowMeans_1.66.0.zip PackageFileSize: 3.452 MiB