Package: flowPeaks Version: 1.52.0 Command: /Library/Frameworks/R.framework/Resources/bin/R CMD build --keep-empty-dirs --no-resave-data flowPeaks StartedAt: 2025-02-10 23:54:23 -0500 (Mon, 10 Feb 2025) EndedAt: 2025-02-10 23:55:10 -0500 (Mon, 10 Feb 2025) EllapsedTime: 46.6 seconds RetCode: 0 Status: OK PackageFile: flowPeaks_1.52.0.tar.gz PackageFileSize: 3.904 MiB