Package: flowPeaks Version: 1.52.0 Command: /Library/Frameworks/R.framework/Resources/bin/R CMD INSTALL flowPeaks StartedAt: 2025-02-03 15:08:18 -0500 (Mon, 03 Feb 2025) EndedAt: 2025-02-03 15:08:32 -0500 (Mon, 03 Feb 2025) EllapsedTime: 14.9 seconds RetCode: 0 Status: OK