Package: flowPeaks Version: 1.52.0 Command: /Library/Frameworks/R.framework/Resources/bin/R CMD build --keep-empty-dirs --no-resave-data flowPeaks StartedAt: 2025-02-03 18:59:50 -0500 (Mon, 03 Feb 2025) EndedAt: 2025-02-03 19:00:58 -0500 (Mon, 03 Feb 2025) EllapsedTime: 68.2 seconds RetCode: 0 Status: OK PackageFile: flowPeaks_1.52.0.tar.gz PackageFileSize: 3.904 MiB