Package: flowPeaks Version: 1.52.0 Command: /Library/Frameworks/R.framework/Resources/bin/R CMD check --install=check:flowPeaks.install-out.txt --library=/Library/Frameworks/R.framework/Resources/library --no-vignettes --timings flowPeaks_1.52.0.tar.gz StartedAt: 2025-02-11 03:35:10 -0500 (Tue, 11 Feb 2025) EndedAt: 2025-02-11 03:35:55 -0500 (Tue, 11 Feb 2025) EllapsedTime: 45.1 seconds RetCode: 0 Status: WARNINGS CheckDir: flowPeaks.Rcheck Warnings: 1