Package: flowPloidy Version: 1.32.0 Command: /Library/Frameworks/R.framework/Resources/bin/R CMD check --install=check:flowPloidy.install-out.txt --library=/Library/Frameworks/R.framework/Resources/library --no-vignettes --timings flowPloidy_1.32.0.tar.gz StartedAt: 2025-02-04 20:04:53 -0500 (Tue, 04 Feb 2025) EndedAt: 2025-02-04 20:06:19 -0500 (Tue, 04 Feb 2025) EllapsedTime: 85.9 seconds RetCode: 0 Status: OK CheckDir: flowPloidy.Rcheck Warnings: 0