Package: flowPloidy Version: 1.32.0 Command: /home/biocbuild/bbs-3.20-bioc/R/bin/R CMD build --keep-empty-dirs --no-resave-data --md5 flowPloidy StartedAt: 2025-02-10 17:20:12 -0500 (Mon, 10 Feb 2025) EndedAt: 2025-02-10 17:20:37 -0500 (Mon, 10 Feb 2025) EllapsedTime: 25.1 seconds RetCode: 0 Status: OK PackageFile: flowPloidy_1.32.0.tar.gz PackageFileSize: 2.334 MiB