Package: flowPloidy Version: 1.32.0 Command: /home/biocbuild/bbs-3.20-bioc/R/bin/R CMD check --install=check:flowPloidy.install-out.txt --library=/home/biocbuild/bbs-3.20-bioc/R/site-library --timings flowPloidy_1.32.0.tar.gz StartedAt: 2025-02-03 22:26:57 -0500 (Mon, 03 Feb 2025) EndedAt: 2025-02-03 22:28:17 -0500 (Mon, 03 Feb 2025) EllapsedTime: 80.2 seconds RetCode: 0 Status: OK CheckDir: flowPloidy.Rcheck Warnings: 0