Package: flowPloidy Version: 1.32.0 Command: /home/biocbuild/R/R/bin/R CMD build --keep-empty-dirs --no-resave-data flowPloidy StartedAt: 2025-02-03 23:40:36 -0000 (Mon, 03 Feb 2025) EndedAt: 2025-02-03 23:41:09 -0000 (Mon, 03 Feb 2025) EllapsedTime: 33.0 seconds RetCode: 0 Status: OK PackageFile: flowPloidy_1.32.0.tar.gz PackageFileSize: 2.315 MiB