Package: flowPlots Version: 1.54.0 Command: /Library/Frameworks/R.framework/Resources/bin/R CMD build --keep-empty-dirs --no-resave-data flowPlots StartedAt: 2025-02-03 23:45:07 -0500 (Mon, 03 Feb 2025) EndedAt: 2025-02-03 23:45:25 -0500 (Mon, 03 Feb 2025) EllapsedTime: 18.2 seconds RetCode: 0 Status: OK PackageFile: flowPlots_1.54.0.tar.gz PackageFileSize: 635.5 KiB