Package: flowPlots Version: 1.54.0 Command: /Library/Frameworks/R.framework/Resources/bin/R CMD INSTALL flowPlots StartedAt: 2025-02-10 15:02:56 -0500 (Mon, 10 Feb 2025) EndedAt: 2025-02-10 15:03:00 -0500 (Mon, 10 Feb 2025) EllapsedTime: 3.5 seconds RetCode: 0 Status: OK