Package: flowPlots Version: 1.54.0 Command: rm -rf flowPlots.buildbin-libdir && mkdir flowPlots.buildbin-libdir && F:\biocbuild\bbs-3.20-bioc\R\bin\R.exe CMD INSTALL --build --library=flowPlots.buildbin-libdir flowPlots_1.54.0.tar.gz StartedAt: 2025-02-04 08:30:45 -0500 (Tue, 04 Feb 2025) EndedAt: 2025-02-04 08:31:27 -0500 (Tue, 04 Feb 2025) EllapsedTime: 42.0 seconds RetCode: 0 Status: OK PackageFile: flowPlots_1.54.0.zip PackageFileSize: 666.7 KiB