Package: flowPlots Version: 1.54.0 Command: chmod a+r flowPlots -R && F:\biocbuild\bbs-3.20-bioc\R\bin\R.exe CMD build --keep-empty-dirs --no-resave-data flowPlots StartedAt: 2025-02-03 19:14:49 -0500 (Mon, 03 Feb 2025) EndedAt: 2025-02-03 19:15:10 -0500 (Mon, 03 Feb 2025) EllapsedTime: 21.0 seconds RetCode: 0 Status: OK PackageFile: flowPlots_1.54.0.tar.gz PackageFileSize: 455.2 KiB